BEGIN:VCALENDAR
VERSION:2.0
PRODID:-//Tylers Belper - ECPv6.15.11//NONSGML v1.0//EN
CALSCALE:GREGORIAN
METHOD:PUBLISH
X-ORIGINAL-URL:https://tylersbelper.co.uk
X-WR-CALDESC:Events for Tylers Belper
REFRESH-INTERVAL;VALUE=DURATION:PT1H
X-Robots-Tag:noindex
X-PUBLISHED-TTL:PT1H
BEGIN:VTIMEZONE
TZID:UTC
BEGIN:STANDARD
TZOFFSETFROM:+0000
TZOFFSETTO:+0000
TZNAME:UTC
DTSTART:20250101T000000
END:STANDARD
END:VTIMEZONE
BEGIN:VEVENT
DTSTART;TZID=UTC:20260404T090000
DTEND;TZID=UTC:20260404T120000
DTSTAMP:20260418T114653
CREATED:20260312T154835Z
LAST-MODIFIED:20260312T154835Z
UID:594-1775293200-1775304000@tylersbelper.co.uk
SUMMARY:The Big Tyler’s Easter Breakfast
DESCRIPTION:Something egg-straordinary is happening at Tyler’s! \nJoin us for a cracking Easter morning where the famous Easter Chicken will be laying eggs for the children while everyone enjoys a brilliant breakfast. \nExpect laughs\, surprises\, and a basket full of eggs as the chicken waddles around dropping treats for the kids. \nBring the family\, bring your appetite\, and see if you can catch an egg straight from the chicken! \n🥓 Delicious breakfast\n🐔 The Easter Chicken laying eggs for the kids\n😂 Lots of laughs and family chaos\n£15 Per Head\nChildren under 10s Free\n⚠️ This event WILL sell out\nOur Christmas Breakfast filled up quickly\, so book now before the eggs are all gone.\nBOOK NOW  \nPlease enable JavaScript in your browser to complete this form.Please enable JavaScript in your browser to complete this form.Name *FirstLastEmail *		\n			chair\, of Phone\n			\n		\n		Phone *Time Slot (starting at 9am\, then every half hour) *9.00am9.30am10.00am10.30am11.00am11.30am12.00noonNumber of places to bookHave you or anyone in your group have any allergies? *YesNoSpecial requests (allergies\, high chair\, etc.)Book Easter Breakfast
URL:https://tylersbelper.co.uk/event/the-big-tylers-easter-breakfast/
ATTACH;FMTTYPE=image/jpeg:https://tylersbelper.co.uk/wp-content/uploads/2026/03/Copy-of-May-29th-scaled.jpg
END:VEVENT
END:VCALENDAR