BEGIN:VCALENDAR
VERSION:2.0
PRODID:-//Tylers Belper - ECPv6.15.11//NONSGML v1.0//EN
CALSCALE:GREGORIAN
METHOD:PUBLISH
X-ORIGINAL-URL:https://tylersbelper.co.uk
X-WR-CALDESC:Events for Tylers Belper
REFRESH-INTERVAL;VALUE=DURATION:PT1H
X-Robots-Tag:noindex
X-PUBLISHED-TTL:PT1H
BEGIN:VTIMEZONE
TZID:UTC
BEGIN:STANDARD
TZOFFSETFROM:+0000
TZOFFSETTO:+0000
TZNAME:UTC
DTSTART:20240101T000000
END:STANDARD
END:VTIMEZONE
BEGIN:VEVENT
DTSTART;TZID=UTC:20251224T090000
DTEND;TZID=UTC:20251224T120000
DTSTAMP:20260421T201844
CREATED:20240910T172456Z
LAST-MODIFIED:20251207T094332Z
UID:326-1766566800-1766577600@tylersbelper.co.uk
SUMMARY:🎅🎄 Breakfast with Santa at Tyler's in Belper! 🎅
DESCRIPTION:🎅🎄 Breakfast with Santa at Tyler’s in Belper! 🎄🎅 Delicious buffet-style breakfast \nGet ready for a magical Christmas Eve at Tyler’s in Belper with a special Buffet-Style Breakfast alongside Santa himself! 🎁✨ \n👨‍👩‍👧‍👦 Adults: £15 | Children: £7📅 When: Christmas Eve🍽 What: Delicious buffet-style breakfast 🍳🥞📞 Booking is strongly advised! Don’t miss out! \nJoin us for some festive fun\, food\, and unforgettable moments before the big day! 🎅🎄 \n#ChristmasEve #BreakfastWithSanta #TylersInBelper #FestiveFun #BookNow \n			\n				\n				\n				\n				\n				SORRY NOW SOLD OUT
URL:https://tylersbelper.co.uk/event/breakfast-tylers-christmas/
ATTACH;FMTTYPE=image/jpeg:https://tylersbelper.co.uk/wp-content/uploads/2024/09/Black-White-Red-Simple-Modern-Elegant-Video-How-To-YouTube-Thumbnail-1.jpg
END:VEVENT
END:VCALENDAR