BEGIN:VCALENDAR
VERSION:2.0
PRODID:-//Tylers Belper - ECPv6.15.11//NONSGML v1.0//EN
CALSCALE:GREGORIAN
METHOD:PUBLISH
X-WR-CALNAME:Tylers Belper
X-ORIGINAL-URL:https://tylersbelper.co.uk
X-WR-CALDESC:Events for Tylers Belper
REFRESH-INTERVAL;VALUE=DURATION:PT1H
X-Robots-Tag:noindex
X-PUBLISHED-TTL:PT1H
BEGIN:VTIMEZONE
TZID:UTC
BEGIN:STANDARD
TZOFFSETFROM:+0000
TZOFFSETTO:+0000
TZNAME:UTC
DTSTART:20250101T000000
END:STANDARD
END:VTIMEZONE
BEGIN:VEVENT
DTSTART;TZID=UTC:20260423T170000
DTEND;TZID=UTC:20260425T220000
DTSTAMP:20260424T100635
CREATED:20260415T055447Z
LAST-MODIFIED:20260415T055447Z
UID:697-1776963600-1777154400@tylersbelper.co.uk
SUMMARY:BELPER CAMPBELL STREET BEER FESTIVAL
DESCRIPTION:Join us for a St George’s Day themed celebration from 23rd–25th April at Campbell Street\, Belper. \nFeaturing 3 venues:\nArkwrights\nTyler’s\nCrich Brewery \nExpect:\n🍺 Variety of real ales\n🎶 Live music\n🎉 Great festival atmosphere\n✅ Free entry \nCome along\, raise a glass\, and celebrate St George’s Day in true beer festival style. \n#Belper #BeerFestival #RealAle #StGeorgesDay #LiveMusic #Derbyshire #CampbellStreet #FreeEntry
URL:https://tylersbelper.co.uk/event/belper-campbell-street-beer-festival/
ATTACH;FMTTYPE=image/png:https://tylersbelper.co.uk/wp-content/uploads/2026/04/BEER-FEST-FEATURED-IMAGE.png
END:VEVENT
END:VCALENDAR