BEGIN:VCALENDAR
VERSION:2.0
PRODID:-//Tylers Belper - ECPv6.15.11//NONSGML v1.0//EN
CALSCALE:GREGORIAN
METHOD:PUBLISH
X-WR-CALNAME:Tylers Belper
X-ORIGINAL-URL:https://tylersbelper.co.uk
X-WR-CALDESC:Events for Tylers Belper
REFRESH-INTERVAL;VALUE=DURATION:PT1H
X-Robots-Tag:noindex
X-PUBLISHED-TTL:PT1H
BEGIN:VTIMEZONE
TZID:UTC
BEGIN:STANDARD
TZOFFSETFROM:+0000
TZOFFSETTO:+0000
TZNAME:UTC
DTSTART:20250101T000000
END:STANDARD
END:VTIMEZONE
BEGIN:VEVENT
DTSTART;TZID=UTC:20260422T193000
DTEND;TZID=UTC:20260422T223000
DTSTAMP:20260422T014704
CREATED:20260312T141434Z
LAST-MODIFIED:20260330T123404Z
UID:586-1776886200-1776897000@tylersbelper.co.uk
SUMMARY:Belper Ghost Walk\, History & Pub Crawl with Richard Felix 👻 SOLD OUT - SORRY
DESCRIPTION:NOW SOLD OUT \nJoin TV historian and paranormal investigator Richard Felix for a brilliant evening of spooky tales\, local history and a pub crawl around Belper.\nThe walk starts at Tyler’s at 7.30pm on Wednesday April 22 and finishes back at Tyler’s\, where there will be a light supper and a talk to round off the night. \n£20 per head \nA great night out for anyone who loves ghosts\, history\, pubs and a few strange tales along the way. \nGet your place booked early. \nBUY YOUR TICKETS BELOW
URL:https://tylersbelper.co.uk/event/belper-ghost-walk-history-pub-crawl-with-richard-felix-%f0%9f%91%bb/
ATTACH;FMTTYPE=image/jpeg:https://tylersbelper.co.uk/wp-content/uploads/2026/03/May-29th-2-scaled.jpg
END:VEVENT
END:VCALENDAR